BEGIN:VCALENDAR
VERSION:2.0
PRODID:-//Portland Radio Project - ECPv6.6.4.2//NONSGML v1.0//EN
CALSCALE:GREGORIAN
METHOD:PUBLISH
X-WR-CALNAME:Portland Radio Project
X-ORIGINAL-URL:https://prp.fm
X-WR-CALDESC:Events for Portland Radio Project
REFRESH-INTERVAL;VALUE=DURATION:PT1H
X-Robots-Tag:noindex
X-PUBLISHED-TTL:PT1H
BEGIN:VTIMEZONE
TZID:America/Los_Angeles
BEGIN:DAYLIGHT
TZOFFSETFROM:-0800
TZOFFSETTO:-0700
TZNAME:PDT
DTSTART:20130310T100000
END:DAYLIGHT
BEGIN:STANDARD
TZOFFSETFROM:-0700
TZOFFSETTO:-0800
TZNAME:PST
DTSTART:20131103T090000
END:STANDARD
END:VTIMEZONE
BEGIN:VEVENT
DTSTART;TZID=America/Los_Angeles:20131128T083000
DTEND;TZID=America/Los_Angeles:20131128T083000
DTSTAMP:20260422T055423
CREATED:20131005T031113Z
LAST-MODIFIED:20131005T031145Z
UID:1246-1385627400-1385627400@prp.fm
SUMMARY:West Linn Turkey Trot
DESCRIPTION:A Family Fun Run on Thanksgiving Day Morning. 3-4 mile trail run for adults and kids\, 1K fun run for younger kids. All abilities welcome! A benefit and food drive for the West Linn Food Pantry.  Register
URL:https://prp.fm/event/west-linn-turkey-trot/
LOCATION:Mary S. Young Park\, 19900 Willamette Dr.\, West Linn\, OR\, 97068\, United States
CATEGORIES:Benefits,Family Events,Holiday Events,Sports & Recreation
ATTACH;FMTTYPE=image/jpeg:https://prp.fm/wp-content/uploads/2013/10/Turkey-Trot.jpg
END:VEVENT
BEGIN:VEVENT
DTSTART;TZID=America/Los_Angeles:20131030T180000
DTEND;TZID=America/Los_Angeles:20131030T180000
DTSTAMP:20260422T055423
CREATED:20131021T011837Z
LAST-MODIFIED:20131021T011837Z
UID:1485-1383156000-1383156000@prp.fm
SUMMARY:Spooky Sellwood Scavenger Run/Walk
DESCRIPTION:RSVP ASAP! First 100 will get a FREE pair of running socks from Asics or New Balance and event is limited to 200 overall at this point. Perfectly timed the night before Halloween. \nReady for a haunted run and walk through the great running neighborhoods of Southeast Portland?! Spooky scavenger stops on the 3 to 6 mile course options! Afterwards\, enjoy tasty fall beers\, pumpkin seeds\, and all the traditional Halloween treats you can shake a pumpkin at! Oh yeah\, plus you’ll be collecting tons of raffle tickets for chances to win ghoulishly awesome prizes from Saucony\, Nike\, Brooks\, Amphipod\, Timex\, Clif\, Spenco\, and more. EXTRA raffle tickets given to anyone in COSTUME! Don’t miss this FREE scavenger hunt run/walk! \nALL participants get a special 15% off discount that night as well!
URL:https://prp.fm/event/spooky-sellwood-scavenger-runwalk/
LOCATION:OR
CATEGORIES:Halloween,Sports & Recreation
ATTACH;FMTTYPE=image/jpeg:https://prp.fm/wp-content/uploads/2013/10/Spooky-Run.jpg
END:VEVENT
BEGIN:VEVENT
DTSTART;TZID=America/Los_Angeles:20131026T180000
DTEND;TZID=America/Los_Angeles:20131026T180000
DTSTAMP:20260422T055423
CREATED:20131005T033922Z
LAST-MODIFIED:20131005T033947Z
UID:1258-1382810400-1382810400@prp.fm
SUMMARY:Dawn of the Dead Dash
DESCRIPTION:Discover if you can navigate through your city to clear all the checkpoints\, remain uninfected and arrive safely back at the Quarantined Safe Zone.  Register \nThe location of Headquarters will be released to register runners the week prior to the race.
URL:https://prp.fm/event/dawn-dead-dash/
LOCATION:OR
CATEGORIES:Sports & Recreation
ATTACH;FMTTYPE=image/jpeg:https://prp.fm/wp-content/uploads/2013/10/Dawn-of-the-Dead-Dash.jpg
END:VEVENT
BEGIN:VEVENT
DTSTART;TZID=America/Los_Angeles:20131026T060000
DTEND;TZID=America/Los_Angeles:20131026T060000
DTSTAMP:20260422T055423
CREATED:20131005T034603Z
LAST-MODIFIED:20131005T034603Z
UID:1261-1382767200-1382767200@prp.fm
SUMMARY:Autumn Leaves 50/50
DESCRIPTION:Oregon Road Runners Club Autumn Leaves is a 50k and 50 mile race held in the beautiful fall colors along the Willamette River at Oregon’s popular Champoeg State Park.
URL:https://prp.fm/event/autumn-leaves-5050/
LOCATION:Champoeg State Park\, 8239 Champoeg Rd NE\, St. Paul\, OR\, 97137\, United States
CATEGORIES:Sports & Recreation
ATTACH;FMTTYPE=image/jpeg:https://prp.fm/wp-content/uploads/2013/10/Autumn-Leaves.jpg
END:VEVENT
BEGIN:VEVENT
DTSTART;TZID=America/Los_Angeles:20131020T080000
DTEND;TZID=America/Los_Angeles:20131020T080000
DTSTAMP:20260422T055423
CREATED:20131005T033155Z
LAST-MODIFIED:20131005T033155Z
UID:1255-1382256000-1382256000@prp.fm
SUMMARY:$5 5k Run
DESCRIPTION:The last in the Portland Parks & Recreation series.
URL:https://prp.fm/event/5-5k-run/
LOCATION:Pier Park\, 10325 N Lombard St\, Portland\, OR\, 97203\, United States
CATEGORIES:Sports & Recreation
ATTACH;FMTTYPE=image/jpeg:https://prp.fm/wp-content/uploads/2013/10/5-5k.jpg
END:VEVENT
BEGIN:VEVENT
DTSTART;TZID=America/Los_Angeles:20131020T074500
DTEND;TZID=America/Los_Angeles:20131020T074500
DTSTAMP:20260422T055423
CREATED:20131005T030349Z
LAST-MODIFIED:20131005T030442Z
UID:1243-1382255100-1382255100@prp.fm
SUMMARY:Run Like Hell
DESCRIPTION:Run Like Hell is a Halloween-themed race that sees participants dress out in full costume for a run through Portland’s urban parks and along its waterfront areas along the Willamette River. Run Like Hell has become a Portland Fall tradition\, come see why! A benefit for Molly’s Fund fighting lupus. \n\nRegistration open at 6:30am\nHalf Marathon Run / Walk 7:45am\n10k Run / Walk 8:20am\nKid’s Half Miler 8:30am\n5k Run / Walk 9:10am
URL:https://prp.fm/event/run-like-hell/
LOCATION:701 SW 6th Avenue\, Portland\, OR\, 97204\, United States
CATEGORIES:Benefits,Halloween,Sports & Recreation
ATTACH;FMTTYPE=image/jpeg:https://prp.fm/wp-content/uploads/2013/10/Run-Like-Hell.jpg
END:VEVENT
BEGIN:VEVENT
DTSTART;TZID=America/Los_Angeles:20131012T100000
DTEND;TZID=America/Los_Angeles:20131012T100000
DTSTAMP:20260422T055423
CREATED:20131005T031652Z
LAST-MODIFIED:20131005T031652Z
UID:1249-1381572000-1381572000@prp.fm
SUMMARY:Blue Lake Run/Walk
DESCRIPTION:Oregon Road Runners Club 38th Annual Blue Lake Runs and Walk\n5K Run\, 5K Walk\, 15K Run/Walk\, 1/2 mile kids run \nAll events are open to all – fast\, slow and in between. The courses (out and back) are flat and fast!\nThe 15K starts at 11:00\, the 5K’s start at 11:10 and the kids run starts at 10:30\, for children 10 years and under (no awards\, but all get ribbons). Bring the whole family and friends! \nThe course is flat and fast. The Blue Lake Runs are Eastside’s most popular races\, with a 15k (9.3 mile) run and walk\, drawing 350 participants last year.
URL:https://prp.fm/event/blue-lake-runwalk/
LOCATION:Blue Lake Park\, 20500 NE Marine Dr.\, Fairview\, OR\, 97024\, United States
CATEGORIES:Family Events,Sports & Recreation
ATTACH;FMTTYPE=image/jpeg:https://prp.fm/wp-content/uploads/2013/10/Blue-Lake-Runs.jpg
END:VEVENT
BEGIN:VEVENT
DTSTART;VALUE=DATE:20131006
DTEND;VALUE=DATE:20131007
DTSTAMP:20260422T055423
CREATED:20130905T032225Z
LAST-MODIFIED:20130905T032346Z
UID:975-1381017600-1381103999@prp.fm
SUMMARY:Portland Marathon
DESCRIPTION:Charity entries still available for the Full & Half Marathon through Sept. 15\, 2013. portlandmarathon.org
URL:https://prp.fm/event/portland-marathon/
LOCATION:Downtown Portland\, Portland\, OR\, United States
CATEGORIES:Sports & Recreation
ATTACH;FMTTYPE=image/jpeg:https://prp.fm/wp-content/uploads/2013/09/pdx-marathon.jpg
END:VEVENT
BEGIN:VEVENT
DTSTART;TZID=America/Los_Angeles:20130928T100000
DTEND;TZID=America/Los_Angeles:20130929T160000
DTSTAMP:20260422T055423
CREATED:20130922T221405Z
LAST-MODIFIED:20130922T221405Z
UID:1090-1380362400-1380470400@prp.fm
SUMMARY:Oregon Handmade Bicycle Show
DESCRIPTION:On September 28-29\, meet many of the Top Frame Builders from around the Great U.S.A. \nThe 6th Annual Oregon Handmade Bicycle Show\, presented by the Oregon Bicycle Constructors Association (O.B.C.A.)\, features exhibitions showcasing bicycle craftsmen and women from Oregon\, Washington\, California\, Idaho and even Japan. These master framebuilders will display their artistry in a celebration of the handbuilt bicycle. \nThe two-day exhibition takes place in Portland\, OR at Sandbox Studios. This former forklift factory is just a short pedal from the river on NE 9th & Flanders. Ample bike parking will be provided for those riding to the show. Ninkasi Brewing Company will be pouring local microbrew all weekend long! \nTickets: Advance ($8) / At the Door ($10)
URL:https://prp.fm/event/oregon-handmade-bicycle-show/
LOCATION:Sandbox Studios\, 420 NE 9th Ave.\, Portland\, OR\, 97232\, United States
CATEGORIES:Fairs & Festivals,Sports & Recreation
ATTACH;FMTTYPE=image/jpeg:https://prp.fm/wp-content/uploads/2013/09/OHBS.jpg
END:VEVENT
BEGIN:VEVENT
DTSTART;TZID=America/Los_Angeles:20130817T210000
DTEND;TZID=America/Los_Angeles:20130817T235500
DTSTAMP:20260422T055423
CREATED:20130707T160017Z
LAST-MODIFIED:20130909T183802Z
UID:755-1376773200-1376783700@prp.fm
SUMMARY:Neon Glow Run
DESCRIPTION:Come in your flashiest neon outfit for the Neon Glow Run Portland\, we will provide you with your GLOW! Each contestant will receive glow bracelets\, glow necklaces\, a glow baton\, and glow glasses. You will also receive a Neon Glow Run T-shirt to show off around town and let people know you lit up the streets of Portland with your Neon SWAG.
URL:https://prp.fm/event/neon-glow-run/
LOCATION:Eastbank Festival Plaza\, SE Water Ave. and SE Main St.\, Portland\, OR\, 97214\, United States
CATEGORIES:Sports & Recreation
ATTACH;FMTTYPE=image/jpeg:https://prp.fm/wp-content/uploads/2013/07/Neon-Glow-Run.jpg
END:VEVENT
END:VCALENDAR